BEGIN:VCALENDAR
VERSION:2.0
PRODID:-//Eastern Shore Vacation Rentals - ECPv6.15.17.1//NONSGML v1.0//EN
CALSCALE:GREGORIAN
METHOD:PUBLISH
X-WR-CALNAME:Eastern Shore Vacation Rentals
X-ORIGINAL-URL:https://easternshorevacations.com
X-WR-CALDESC:Events for Eastern Shore Vacation Rentals
REFRESH-INTERVAL;VALUE=DURATION:PT1H
X-Robots-Tag:noindex
X-PUBLISHED-TTL:PT1H
BEGIN:VTIMEZONE
TZID:America/New_York
BEGIN:DAYLIGHT
TZOFFSETFROM:-0500
TZOFFSETTO:-0400
TZNAME:EDT
DTSTART:20220313T070000
END:DAYLIGHT
BEGIN:STANDARD
TZOFFSETFROM:-0400
TZOFFSETTO:-0500
TZNAME:EST
DTSTART:20221106T060000
END:STANDARD
BEGIN:DAYLIGHT
TZOFFSETFROM:-0500
TZOFFSETTO:-0400
TZNAME:EDT
DTSTART:20230312T070000
END:DAYLIGHT
BEGIN:STANDARD
TZOFFSETFROM:-0400
TZOFFSETTO:-0500
TZNAME:EST
DTSTART:20231105T060000
END:STANDARD
BEGIN:DAYLIGHT
TZOFFSETFROM:-0500
TZOFFSETTO:-0400
TZNAME:EDT
DTSTART:20240310T070000
END:DAYLIGHT
BEGIN:STANDARD
TZOFFSETFROM:-0400
TZOFFSETTO:-0500
TZNAME:EST
DTSTART:20241103T060000
END:STANDARD
BEGIN:DAYLIGHT
TZOFFSETFROM:-0500
TZOFFSETTO:-0400
TZNAME:EDT
DTSTART:20250309T070000
END:DAYLIGHT
BEGIN:STANDARD
TZOFFSETFROM:-0400
TZOFFSETTO:-0500
TZNAME:EST
DTSTART:20251102T060000
END:STANDARD
END:VTIMEZONE
BEGIN:VTIMEZONE
TZID:UTC
BEGIN:STANDARD
TZOFFSETFROM:+0000
TZOFFSETTO:+0000
TZNAME:UTC
DTSTART:20220101T000000
END:STANDARD
END:VTIMEZONE
BEGIN:VEVENT
DTSTART;TZID=America/New_York:20240323T140000
DTEND;TZID=America/New_York:20240323T150000
DTSTAMP:20260425T155841
CREATED:20240312T160419Z
LAST-MODIFIED:20240312T160419Z
UID:18628-1711202400-1711206000@easternshorevacations.com
SUMMARY:Queenstown Easter Egg Hunt
DESCRIPTION:Date/Time\nDate(s) – March 23\, 2024\n2:00 pm \nVenue\nQueenstown Community Park \n  \nJoin us for the Queenstown Easter Egg Hunt on Saturday\, March 23 at 2pm sharp at the Queenstown Community Park on Old Wharf Lane! (Rain Date: Sunday\, March 23 at 2pm) \nSpecial Guest the Easter Bunny will be present for pictures with all! Please arrive early as the egg hunt only lasts for as long as the eggs are on the ground. Don’t forget to bring a basket\, bag\, or bucket to collect your eggs! \nOrganizer \n7013 Main St. Queenstown\, MD 21658\nPO Box 4 Queenstown\, MD 21658 \nPhone: 410-827-7646\nFax: 410-827-7661 \n\nQueenstown Easter Egg Hunt
URL:https://easternshorevacations.com/event/queenstown-easter-egg-hunt/
CATEGORIES:centreville,Queen Anne's County,queenstown
ATTACH;FMTTYPE=image/png:https://easternshorevacations.com/wp-content/uploads/Screen-Shot-2024-03-12-at-12.03.01-PM.png
END:VEVENT
BEGIN:VEVENT
DTSTART;TZID=America/New_York:20240323T130000
DTEND;TZID=America/New_York:20240323T170000
DTSTAMP:20260425T155841
CREATED:20240312T165531Z
LAST-MODIFIED:20240314T182908Z
UID:18658-1711198800-1711213200@easternshorevacations.com
SUMMARY:Awww Shucks Oyster Harvest In Queenstown
DESCRIPTION:They will be shucking oysters all day long! More details as we get closer to the day.  \nWhat pairs better with a briny\, sweet oyster than an ice cold fresh beer? \nDate: \nMarch\, 23rd @ 1pm \n  \nVenue: \n205 Grange Hall Road\, Queenstown\, MD\, United States\, Maryland 21658 \n  \nOrganizer: \n\n\nEvent by Ten Eyck Brewing Company and Field Kitchen
URL:https://easternshorevacations.com/event/awww-shucks-oyster-harvest-in-queenstown/
CATEGORIES:Queen Anne's County,queenstown,St Michaels
ATTACH;FMTTYPE=image/png:https://easternshorevacations.com/wp-content/uploads/Screen-Shot-2024-03-12-at-12.52.31-PM.png
END:VEVENT
BEGIN:VEVENT
DTSTART;TZID=America/New_York:20240322T200000
DTEND;TZID=America/New_York:20240322T210000
DTSTAMP:20260425T155841
CREATED:20240314T184558Z
LAST-MODIFIED:20240314T184558Z
UID:18673-1711137600-1711141200@easternshorevacations.com
SUMMARY:3rd Annual Glow In The Dark Easter egg hunt At The Queenstown's Moose Lodge
DESCRIPTION:Friday night\, March 22nd for our 3rd Annual Moose Glow in the Dark Easter Egg Hunt! \nThere’s nothing else that will make you feel like a kid again then hunting Glow in the dark eggs filled with treats!! \n  \n$15/person to participate\, you’ll find eggs filled with scratch offs\, liquor minis\, moose bucks\, drink chips and more!! \n  \nBring a flash light if you like….or a friend! Open to Members and Qualified Guests!! \n  \n 
URL:https://easternshorevacations.com/event/3rd-annual-glow-in-the-dark-easter-egg-hunt-at-the-queenstowns-moose-lodge/
CATEGORIES:Queen Anne's County,queenstown
ATTACH;FMTTYPE=image/png:https://easternshorevacations.com/wp-content/uploads/Screen-Shot-2024-03-14-at-2.42.49-PM.png
END:VEVENT
BEGIN:VEVENT
DTSTART;TZID=America/New_York:20231027T100000
DTEND;TZID=America/New_York:20231029T180000
DTSTAMP:20260425T155841
CREATED:20231004T144107Z
LAST-MODIFIED:20231004T144107Z
UID:18260-1698400800-1698602400@easternshorevacations.com
SUMMARY:Sea Witch Festival in Rehoboth
DESCRIPTION:About the Sea Witch® Festival\nThe annual Sea Witch Festival is Rehoboth Beach’s free family-friendly Halloween celebration. Dress up and enjoy the parades\, live entertainment\, contests and more in downtown Rehoboth Beach. The Sea Witch Festival is Friday through Sunday\, Oct. 27-29\, 2023. \nSea Witch Festival Activities\nAll through downtown Rehoboth\, and at local businesses\, you can take part in an array of free activities during the Sea Witch Festival. \nTrick-or-treat in downtown Rehoboth and Dewey Beach\, watch a classic horror film at the Rehoboth Beach Museum\, visit the Kid’s Zone at First Street Station\, go on a scavenger hunt and so much more. \nSea Witch Festival Costume Parade\nThe Sea Witch Festival kicks off with the Sea Witch Balloon and Clipper Ship. Following this headlining float will be hundreds of people\, dressed in costume\, walking the parade\, as well as motorized floats. The parade will follow Rehoboth Avenue. Those interested in watching the parade are advised to arrive before the 9 a.m. start time. \nCostumed Dog Parade\nThe pups have their own Halloween celebration on Sunday with the Costumed Dog Parade. Starting from the north end of the Rehoboth Beach Boardwalk\, pet owners and their dogs can come dressed to walk down the boardwalk. \nSea Witch 5K Classic Run and One Mile Fright Walk\nOn Sunday\, take part in the Sea Witch Festival 5K Run and One Mile Fright Walk. There will be over 500 runners dressed in costume to race down Rehoboth Avenue. Prizes will be awarded for running the fastest time and having the best costume. \nVendors\nThis year’s Sea Witch Festival will have an expanded artisan and vendor area in the Convention Center. From 1–6 p.m. on Saturday and 10 a.m.–5 p.m. on Sunday. Browse over 30 vendors showcasing and selling their handmade products and goods. \nKid’s Corner\nThe Convention Center will also feature the Kid’s Corner all weekend long. Each day of the festival\, children can enjoy fun Halloween-themed activities\, including Spooky Science Fun\, trick-or-treat bag decorating\, magic shows\, monster art and more. \nLive Music\nThere will be live music at the Rehoboth Beach Bandstand for all three days of the Sea Witch Festival. Several bands and artists will be performing an array of musical genres in free concerts that are perfect for the whole family. \nGetting to the Sea Witch Festival\nPublic transportation will be available for those attending the Sea Witch Festival. \nIf you’re traveling form the south\, use the Jolly Trolley. Free parking will be available at the pick-up and drop off locations at Tower Road and Delaware Seashore State Park. The Jolly Trolley is $3 for adult and $1 for kids under 5 one way. \nIf you’re coming from the north\, park at one of the DART Park & Ride locations for free and take the dart for $2 one way or $4.20 for a full-day pass. \nParking\nParking is not recommended on Rehoboth Avenue. Crowd control fencing will be in place Saturday\, Oct. 26\, before the festival. Parking will be available on the side streets.
URL:https://easternshorevacations.com/event/sea-witch-festival-in-rehoboth/
LOCATION:Rehoboth Avenue\, 509 Rehoboth Beach\, DE\,19971\, Rehoboth Beach\, DE\, 19971\, United States
CATEGORIES:annapolis,Cambridge,Queen Anne's County,queenstown,St Michaels,stevensville,Talbot County,Tilghman,Worchester
ATTACH;FMTTYPE=image/png:https://easternshorevacations.com/wp-content/uploads/4p1x468f.png
END:VEVENT
BEGIN:VEVENT
DTSTART;TZID=UTC:20230913T180000
DTEND;TZID=UTC:20231013T200000
DTSTAMP:20260425T155841
CREATED:20230810T180310Z
LAST-MODIFIED:20230810T180310Z
UID:17936-1694628000-1697227200@easternshorevacations.com
SUMMARY:Feasting Over Fire Series with Chesapeake Chefs
DESCRIPTION:Chestertown’s Brampton Inn and Chesapeake Chef Service are teaming up to present a series of alfresco dinner party’s highlighting the Eastern Shore’s farmers\, watermen\, cheesemakers\, and many more. \nReserve Your Seat at the Table: Feasting Over Fire Dinner Series with Chesapeake Chef Service at Brampton Inn \nExperience a quintessential Eastern Shore tradition and join us at Brampton Inn for an open-fire cauldron dinner that is a love letter to what’s in season. Chef Kurt Peter and his talented team from Chesapeake Chef Service is firing up the flame to create an imaginative\, robust menu to celebrate the diverse seasonal abundance of local farmers\, watermen\, cheesemakers\, vintners\, and brewers to highlight the subtle changes of flavor throughout the season. \nSet on the scenic alfresco Renaissance Garden terrace\, each Feasting Over Fire menu will change and includes: \n• Begin your visit with seasonal appetizers and craft cocktails garnished with herbs straight from the Brampton’s lush garden. \n• Gather around a communal table to savor a decadent multi-course dinner by Chef Peter showcasing the finest local ingredients from neighboring farmers and watermen\, paired with remarkable wines or spirits chosen by Chef Peter. \n• Throughout the evening we will be entertained by the musical stylings of concert pianist\, Michael Casey\, who hails from Rock Hall. \n• $120.00 per person includes gratuity. No fees. \n• Available September 13th and October 12th\, 6pm – 8pm. Dinner themes and menus will be forthcoming. \n• Advance ticket purchase required. No walk-ups accepted. Ticket sales end 2 days prior to the event. \nExtend your experience by making reservations to stay at Brampton Inn. Book online at https://bramptoninn.com/ or call 410-778-1860. Guests of the Inn will enjoy a bottle of Champagne and can retire to one of the many cozy seating areas\, fire pit or the comfort of their cottage or suite and continue in their enjoyment of the enchanting evening. A decadent breakfast is included each morning of your stay.
URL:https://easternshorevacations.com/event/feasting-over-fire-series-with-chesapeake-chefs/
CATEGORIES:annapolis,Cambridge,centreville,Chester,Dorchester County,Easton,grasonville,millington,Oxford,Queen Anne's County,queenstown,St Michaels,stevensville,Talbot County,Tilghman,Worchester
ATTACH;FMTTYPE=image/png:https://easternshorevacations.com/wp-content/uploads/0k5n20lk.png
END:VEVENT
BEGIN:VEVENT
DTSTART;TZID=UTC:20230804T180000
DTEND;TZID=UTC:20230805T160000
DTSTAMP:20260425T155841
CREATED:20230511T232133Z
LAST-MODIFIED:20230511T232133Z
UID:16819-1691172000-1691251200@easternshorevacations.com
SUMMARY:The 9th Annual Sudlersville Peach Festival 23'
DESCRIPTION:Friday\, August 4 6PM until Fireworks\n\nSaturday\, August 5 10AM – 4PM\n\nSudlersville Peach Festival is co-hosted by the Sudlersville Volunteer Fire Company. With the best local bands providing live music\, community non-profit groups serving great homemade food from pit beef to peach cobbler\, local vendors offering their best hand-made crafts\, and lots of great family activities\, this event is a true community gala that promises to be a great time for the whole family.\n\nThere is no admission fee or tickets to attend this event. Free onsite parking available directly behind the farm market.
URL:https://easternshorevacations.com/event/the-9th-annual-sudlersville-peach-festival-23/
CATEGORIES:centreville,Chester,grasonville,millington,Queen Anne's County,queenstown,stevensville
ATTACH;FMTTYPE=image/png:https://easternshorevacations.com/wp-content/uploads/peac-2.png
END:VEVENT
BEGIN:VEVENT
DTSTART;TZID=UTC:20230603T153000
DTEND;TZID=UTC:20231125T183000
DTSTAMP:20260425T155841
CREATED:20230511T225400Z
LAST-MODIFIED:20230511T225400Z
UID:16816-1685806200-1700937000@easternshorevacations.com
SUMMARY:Kent Island Farmers’ Market
DESCRIPTION:With over 30 local vendors at KENT ISLAND FARMERS’ MARKET at Cult Classic Brewery Year-round every Thursday. Hours 3:30- 6pm through Spring\, Summer and Fall. January through March 3:30- 5:30. Experience local selection of seasonal fruits and vegetables. Hand crafted jewelry\, crafts\, home decor and more! Homemade baked goods\, beauty products\, local breweries and restaurants all at your fingertips. \n 
URL:https://easternshorevacations.com/event/kent-island-farmers-market-may-25th/
CATEGORIES:centreville,Chester,grasonville,millington,Queen Anne's County,queenstown,stevensville
ATTACH;FMTTYPE=image/png:https://easternshorevacations.com/wp-content/uploads/2023-Farmers-Market-FB.png
END:VEVENT
BEGIN:VEVENT
DTSTART;TZID=UTC:20230524T183000
DTEND;TZID=UTC:20230524T220000
DTSTAMP:20260425T155841
CREATED:20230511T235503Z
LAST-MODIFIED:20230511T235503Z
UID:16836-1684953000-1684965600@easternshorevacations.com
SUMMARY:Karaoke Night – The Jetty Restaurant and Dock Bar (May 24th)
DESCRIPTION:Come out to the Jetty Restaurant and Dock bar for amazing food and the best drinks in the area! Enjoy the beautiful view and if you are feeling the vibes come rock the dock with Karaoke night. \nEvery Wednesday from 6:30 – 9:30 head to the Jetty restaurant and Dock Bar for Karaoke night.
URL:https://easternshorevacations.com/event/karaoke-night-the-jetty-restaurant-and-dock-bar-may-25th/
CATEGORIES:centreville,Chester,grasonville,millington,Queen Anne's County,queenstown,stevensville
ATTACH;FMTTYPE=image/jpeg:https://easternshorevacations.com/wp-content/uploads/jetty-dock-bar-karaoke.jpg
END:VEVENT
BEGIN:VEVENT
DTSTART;TZID=UTC:20230518T153000
DTEND;TZID=UTC:20230518T183000
DTSTAMP:20260425T155841
CREATED:20230511T223953Z
LAST-MODIFIED:20230511T223953Z
UID:16805-1684423800-1684434600@easternshorevacations.com
SUMMARY:Kent Island Farmers’ Market (May 18th)
DESCRIPTION:With over 30 local vendors at KENT ISLAND FARMERS’ MARKET at Cult Classic Brewery Year-round every Thursday. Hours 3:30- 6pm through Spring\, Summer and Fall. January through March 3:30- 5:30. Experience local selection of seasonal fruits and vegetables. Hand crafted jewelry\, crafts\, home decor and more! Homemade baked goods\, beauty products\, local breweries and restaurants all at your fingertips. \n  \n  \n \n  \n 
URL:https://easternshorevacations.com/event/kent-island-farmers-market-18th/
CATEGORIES:centreville,Chester,grasonville,millington,Queen Anne's County,queenstown,stevensville
ATTACH;FMTTYPE=image/png:https://easternshorevacations.com/wp-content/uploads/2023-Farmers-Market-FB.png
END:VEVENT
BEGIN:VEVENT
DTSTART;TZID=UTC:20230517T183000
DTEND;TZID=UTC:20230517T220000
DTSTAMP:20260425T155841
CREATED:20230511T235055Z
LAST-MODIFIED:20230511T235055Z
UID:16829-1684348200-1684360800@easternshorevacations.com
SUMMARY:Karaoke Night – The Jetty Restaurant and Dock Bar (May 17th)
DESCRIPTION:Come out to the Jetty Restaurant and Dock bar for amazing food and the best drinks in the area! Enjoy the beautiful view and if you are feeling the vibes come rock the dock with Karaoke night. \nEvery Wednesday from 6:30 – 9:30 head to the Jetty restaurant and Dock Bar for Karaoke night.
URL:https://easternshorevacations.com/event/karaoke-night-the-jetty-restaurant-and-dock-bar-may-17th/
CATEGORIES:centreville,Chester,grasonville,Queen Anne's County,queenstown,stevensville
ATTACH;FMTTYPE=image/jpeg:https://easternshorevacations.com/wp-content/uploads/jetty-dock-bar-karaoke.jpg
END:VEVENT
END:VCALENDAR