BEGIN:VCALENDAR
VERSION:2.0
PRODID:-//Eastern Shore Vacation Rentals - ECPv6.15.17.1//NONSGML v1.0//EN
CALSCALE:GREGORIAN
METHOD:PUBLISH
X-WR-CALNAME:Eastern Shore Vacation Rentals
X-ORIGINAL-URL:https://easternshorevacations.com
X-WR-CALDESC:Events for Eastern Shore Vacation Rentals
REFRESH-INTERVAL;VALUE=DURATION:PT1H
X-Robots-Tag:noindex
X-PUBLISHED-TTL:PT1H
BEGIN:VTIMEZONE
TZID:America/New_York
BEGIN:DAYLIGHT
TZOFFSETFROM:-0500
TZOFFSETTO:-0400
TZNAME:EDT
DTSTART:20250309T070000
END:DAYLIGHT
BEGIN:STANDARD
TZOFFSETFROM:-0400
TZOFFSETTO:-0500
TZNAME:EST
DTSTART:20251102T060000
END:STANDARD
BEGIN:DAYLIGHT
TZOFFSETFROM:-0500
TZOFFSETTO:-0400
TZNAME:EDT
DTSTART:20260308T070000
END:DAYLIGHT
BEGIN:STANDARD
TZOFFSETFROM:-0400
TZOFFSETTO:-0500
TZNAME:EST
DTSTART:20261101T060000
END:STANDARD
BEGIN:DAYLIGHT
TZOFFSETFROM:-0500
TZOFFSETTO:-0400
TZNAME:EDT
DTSTART:20270314T070000
END:DAYLIGHT
BEGIN:STANDARD
TZOFFSETFROM:-0400
TZOFFSETTO:-0500
TZNAME:EST
DTSTART:20271107T060000
END:STANDARD
END:VTIMEZONE
BEGIN:VEVENT
DTSTART;TZID=America/New_York:20260513T183000
DTEND;TZID=America/New_York:20260513T203000
DTSTAMP:20260423T111528
CREATED:20260402T172543Z
LAST-MODIFIED:20260402T172543Z
UID:19304-1778697000-1778704200@easternshorevacations.com
SUMMARY:Resin Wave Board Workshop
DESCRIPTION:Bring a touch of seaside charm into your home! In this relaxing and creative workshop\, you’ll learn the art of mixing\, pouring\, and layering resin to create stunning ocean wave effects. With multiple board shapes and sizes to choose from\, your project will be as unique as you are. These pieces make beautiful décor for your home—or thoughtful handmade gifts.\nThis class is beginner friendly\, appropriate for ages 14 and up.\nWednesday May 13\, 6:30-8:30pm\nEl Jefe Mexican Kitchen\n1235 Shopping Center Road\nStevensville\, MD 21666
URL:https://easternshorevacations.com/event/resin-wave-board-workshop/
LOCATION:El Jefe Mexican Kitchen/Tequila Bar
CATEGORIES:Queen Anne's County
END:VEVENT
END:VCALENDAR