BEGIN:VCALENDAR
VERSION:2.0
PRODID:-//Eastern Shore Vacation Rentals - ECPv6.15.17.1//NONSGML v1.0//EN
CALSCALE:GREGORIAN
METHOD:PUBLISH
X-WR-CALNAME:Eastern Shore Vacation Rentals
X-ORIGINAL-URL:https://easternshorevacations.com
X-WR-CALDESC:Events for Eastern Shore Vacation Rentals
REFRESH-INTERVAL;VALUE=DURATION:PT1H
X-Robots-Tag:noindex
X-PUBLISHED-TTL:PT1H
BEGIN:VTIMEZONE
TZID:America/New_York
BEGIN:DAYLIGHT
TZOFFSETFROM:-0500
TZOFFSETTO:-0400
TZNAME:EDT
DTSTART:20230312T070000
END:DAYLIGHT
BEGIN:STANDARD
TZOFFSETFROM:-0400
TZOFFSETTO:-0500
TZNAME:EST
DTSTART:20231105T060000
END:STANDARD
BEGIN:DAYLIGHT
TZOFFSETFROM:-0500
TZOFFSETTO:-0400
TZNAME:EDT
DTSTART:20240310T070000
END:DAYLIGHT
BEGIN:STANDARD
TZOFFSETFROM:-0400
TZOFFSETTO:-0500
TZNAME:EST
DTSTART:20241103T060000
END:STANDARD
BEGIN:DAYLIGHT
TZOFFSETFROM:-0500
TZOFFSETTO:-0400
TZNAME:EDT
DTSTART:20250309T070000
END:DAYLIGHT
BEGIN:STANDARD
TZOFFSETFROM:-0400
TZOFFSETTO:-0500
TZNAME:EST
DTSTART:20251102T060000
END:STANDARD
END:VTIMEZONE
BEGIN:VTIMEZONE
TZID:UTC
BEGIN:STANDARD
TZOFFSETFROM:+0000
TZOFFSETTO:+0000
TZNAME:UTC
DTSTART:20220101T000000
END:STANDARD
END:VTIMEZONE
BEGIN:VEVENT
DTSTART;TZID=America/New_York:20240921T120000
DTEND;TZID=America/New_York:20240921T223000
DTSTAMP:20260419T184452
CREATED:20240827T134154Z
LAST-MODIFIED:20240827T134154Z
UID:19066-1726920000-1726957800@easternshorevacations.com
SUMMARY:5th Annual EycktoberFest in Queenstown
DESCRIPTION:Join us for our 5th Annual EycktoberFest!\nYOU have made this event our favorite every year!\nGerman-inspired eats by Field Kitchen!\nGames of skill including the Stein Hoist\, Hammerschlagen and Beer Puppeteer!\nCommemorative beer steins!\nWe will have the full Edelweiss Band performing 2-5PM!\nIt’s a full day of celebration\, 12-10PM \n\n\n\n\nDetails\n\nDate:\nSeptember 21 \nTime:\n\n12:00 pm – 10:00 pm\n\nEvent Categories:\nLocal Events\, Live Music\, Festivals\, Holiday\n\n\n\nOrganizer\n\nTen Eyck Brewing Company\nEmail:\ninfo@teneyckbrewing.com\nWebsite:\nteneyckbrewing.com\n\n\n\n\n\nVenue\n\nTen Eyck Brewing Company\n\n205 Grange Hall Road\nQueenstown\, 21658 United States+ Google Map\n\nWebsite:\nteneyckbrewing.com\n\nCredit: Secrets of the Eastern Shore
URL:https://easternshorevacations.com/event/5th-annual-eycktoberfest-in-queenstown/
CATEGORIES:Easton,grasonville,Queen Anne's County,queenstown,St Michaels,stevensville,Talbot County
ATTACH;FMTTYPE=image/png:https://easternshorevacations.com/wp-content/uploads/ssss.png
END:VEVENT
BEGIN:VEVENT
DTSTART;TZID=America/New_York:20240921T100000
DTEND;TZID=America/New_York:20240921T153000
DTSTAMP:20260419T184452
CREATED:20240827T140113Z
LAST-MODIFIED:20240827T140113Z
UID:19077-1726912800-1726932600@easternshorevacations.com
SUMMARY:Annual End of Summer Crab\, Bull\, and Oyster Roast In Grasonville
DESCRIPTION:Join us for our annual End of Summer Crab\, Bull\, and Oyster Roast! Enjoy crabs\, oysters\, pit beef\, pulled pork\, corn on the cob\, coleslaw\, domestic beer\, wine\, and seltzers\, along with live music! Don’t miss out\, as this event sells out every time\n\n\n		\n		\n			\n				\n			\n			\n		\n\n\n\n\n\n\n\n\n\nEvent by Jetty Dock Bar\n\n\n\n\n\n\n\n\n\n\n\n\n201 Wells Cove Rd\, Grasonville\, MD\, United States\, Maryland 21638
URL:https://easternshorevacations.com/event/annual-end-of-summer-crab-bull-and-oyster-roast-in-grasonville/
CATEGORIES:annapolis,Cambridge,centreville,Chester,Dorchester County,Easton,grasonville,Oxford,Queen Anne's County,queenstown,St Michaels,stevensville,Talbot County,Worchester
ATTACH;FMTTYPE=image/png:https://easternshorevacations.com/wp-content/uploads/vvvvv.png
END:VEVENT
BEGIN:VEVENT
DTSTART;TZID=America/New_York:20240918T180000
DTEND;TZID=America/New_York:20240918T203000
DTSTAMP:20260419T184452
CREATED:20240827T150959Z
LAST-MODIFIED:20240827T150959Z
UID:19108-1726682400-1726691400@easternshorevacations.com
SUMMARY:September's Beer and Brushes at Ten Eyck Brewing in Queenstown
DESCRIPTION:September’s Beer and Brushes at Ten Eyck Brewing is open for registration!\n\nWe’ll be painting “Shorebird” and you’ll receive a token for your first drink. Try a new beer or grab an old favorite and the field kitchen will be available for purchasing great eats for the evening.\n\n\n\nWe’ll walk you through each element- you don’t have to be an artist or know how to draw or paint\, we’ll show you all the steps and tips you need! Grab some friends and don’t wait to get your tickets\, Beer and Brushes sells out quickly.\n\n\n\n\n\n\n\n\nEvent by Art Party Unlimited\, LLC\, Ten Eyck Brewing Company and Karen Saunders\n\n\n\n\n\n\n\n\n\n\n\n\nTen Eyck Brewing Company\n\n\n\n\n\n\n\n\n\n\n\n\nTickets\nwww.artpartyunlimited.com/service-page/september-beer-and-brushes-ten-eyck
URL:https://easternshorevacations.com/event/septembers-beer-and-brushes-at-ten-eyck-brewing-in-queenstown/
CATEGORIES:grasonville,Queen Anne's County,queenstown,St Michaels,Talbot County
ATTACH;FMTTYPE=image/png:https://easternshorevacations.com/wp-content/uploads/asa.png
END:VEVENT
BEGIN:VEVENT
DTSTART;TZID=America/New_York:20240909T060000
DTEND;TZID=America/New_York:20240909T160000
DTSTAMP:20260419T184452
CREATED:20240827T150323Z
LAST-MODIFIED:20240827T150323Z
UID:19105-1725861600-1725897600@easternshorevacations.com
SUMMARY:Rockfish Rodeo Fishing Tournament and Crab Feast in Grasonville
DESCRIPTION:2024 Rockfish Rodeo Fishing Tournament and Crab Feast Benefitting Talisman Therapeutic RidingSeptember 9\, 2024All Boats Launch from Fisherman’s Crab Deck at 6:00 AM\nSign Up Now:Sponsorships Available!Single Anglers – $225 (Includes Crab Feast)Single Crab Feast Guest – $110\n\n\n\n\n\n\n\nEvent by Talisman Therapeutic Riding\n\n\n\n\n\n\n\n\n\n\n\n\nVenue: Fisherman’s Crab Deck\n\n\n\n\n\n\n\n\nTickets: https://talismantherapeuticriding.networkforgood.com/events/72262-2024-rockfish-rodeo-crab-feast?fbclid=IwY2xjawE6yX9leHRuA2FlbQIxMAABHZLDkTYwkaLLXokhMitgC4U6Pc3yRJXxjuQKaTOgK4vdjlDxxZjpXelFsw_aem_XNEsl_IrlSysCAuQJHzpoA
URL:https://easternshorevacations.com/event/rockfish-rodeo-fishing-tournament-and-crab-feast-in-grasonville/
CATEGORIES:grasonville,Queen Anne's County,Talbot County
ATTACH;FMTTYPE=image/png:https://easternshorevacations.com/wp-content/uploads/tttttt.png
END:VEVENT
BEGIN:VEVENT
DTSTART;TZID=America/New_York:20240902T100000
DTEND;TZID=America/New_York:20240902T153000
DTSTAMP:20260419T184452
CREATED:20240827T140506Z
LAST-MODIFIED:20240827T140506Z
UID:19080-1725271200-1725291000@easternshorevacations.com
SUMMARY:Labor Day Parade in Grasonville
DESCRIPTION:Event by Grasonville Community Center\n\n\n\n\n\n\n\n\n\n\n\nGrasonville Community Center\n\n\n\n\n\n\n\n\n\n\n\n\n\n\n\n\n\n\n\nMonday September 2nd 5601 Main Street\, Grasonville MD\nParade starts at 12pmLine up starts at 10am\n\nFollowing the parade there will be vendors\, food\, moon bounce\, music\, 50/50 raffle & lots of fun!
URL:https://easternshorevacations.com/event/labor-day-parade-in-grasonville/
CATEGORIES:centreville,Dorchester County,Easton,grasonville,Oxford,Queen Anne's County,queenstown,St Michaels,Talbot County
ATTACH;FMTTYPE=image/png:https://easternshorevacations.com/wp-content/uploads/hjkl.png
END:VEVENT
BEGIN:VEVENT
DTSTART;TZID=America/New_York:20240901T093000
DTEND;TZID=America/New_York:20240902T170000
DTSTAMP:20260419T184452
CREATED:20240827T132953Z
LAST-MODIFIED:20240827T132953Z
UID:19060-1725183000-1725296400@easternshorevacations.com
SUMMARY:Skipjack Race & Festival
DESCRIPTION:Festival Grounds includes Food Vendors\, Arts & Crafts Vendors\, Heritage & Education Exhibits and free Children’s Activities\, both Sunday and Monday\nThe Deal Island (Md.) Skipjack Races happen on Labor Day Monday\, Sept. 2. As always\, the Island Fest on both Sunday and Monday offers a variety of events—parade\, live music\, car show\, blessing of the fleet\, boat-docking contest\, more. Details. \nEvent Schedule\n\n\n\n\n\n\n\n\n\n\n\n\n\n\n\nSunday\n\n FREE ADMISSION  \n9:30 am – Church By The Bay Service \n10:00 am – Car Show Registration \n10:00 am – Ticket Raffle Sales Begin (1 day only) – ends 4:00 pm \n1:00 pm – Parade (line-up 12:15 pm at the school) \n2:00 pm – Rock Creek Band \n7:00 pm – AJ the DJ – $5.00 admission \n\n\n\n\n\n\n\n\nMonday\n\n$10 Admission – Ages 13+ \nKids 12 and under free \nSunrise to 2:00 pm – Stan Yastrzemsky Memorial Fishing Tournament \n7:00 am – Fire Dept. Auxiliary Breakfast Sandwiches \n8:00 am – Blessing of the Fleet \n9:00 am – Heritage & Education Exhibits \n9:00 am – Preferred Handicap Factor \n9:30 am – 65th Annual Skipjack Race \n10:00 am – Silent Auction (1 day only) – ends 4:00 pm \n10:00 am – Fire Dept. Auxiliary Bake Sale (ends at 2 pm) \n1:00 pm – Working Waterman’s Team Boat Docking Practice Round \n2:00 pm – Working Waterman’s Team Boat Docking Qualifying and Contest \n5:00 pm – Cash Raffle Drawings (Miss Skipjack) \n5:00 pm – Award Ceremony \n\n\n\n\n\n\n\n\n\n\n\n\n\n\n\n\n\nOrganizer: Secrets of the Eastern Shore \n\nVenue: The Deal Island (Md.) \n 
URL:https://easternshorevacations.com/event/skipjack-race-festival/
CATEGORIES:annapolis,Cambridge,Dorchester County,Easton,grasonville,Oxford,Queen Anne's County,St Michaels,Talbot County
ATTACH;FMTTYPE=image/png:https://easternshorevacations.com/wp-content/uploads/aaaaaa.png
END:VEVENT
BEGIN:VEVENT
DTSTART;TZID=America/New_York:20240622T163000
DTEND;TZID=America/New_York:20240928T213000
DTSTAMP:20260419T184452
CREATED:20240612T164741Z
LAST-MODIFIED:20240612T164741Z
UID:18920-1719073800-1727559000@easternshorevacations.com
SUMMARY:Old School R&B Crab & Cruise in Crisfield
DESCRIPTION:Get ready for the ultimate seafood extravaganza of the summer! \nThis event has premium crabs measuring 6 1/4″ up to 8″! 97.5FM DJ\, Big Mark will be mixing up the R&B/Hip Hop hits from 90’s and 00’s on the upper level of the cruise while music plays on the lower level.  \n Hurricane Hazel will be providing crab-picking demos during the feast portion. It’ll be a fantastic day in the Crab Capital of the World.  \nSee why it’s called the Baddest Crab Party on the Bay. \nChoose from the ‘Crab-Feast ONLY’ ticket or the all-inclusive ‘Crab AND Cruise’ ticket: https://crabandcruise.com/\nMUST BE 21 TO ATTEND THE EVENT \nOther events going until Sep 28th 2024 visit the website! \nhttps://www.crabandcruise.com/shop-detail?productId=vRlE3AVHq&fbclid=IwZXh0bgNhZW0CMTAAAR1Y2gAEMddzQj2dL9VIxhbk7_UqTOeO5DGVqfOLdjrjMvIj3p8FtEWY0vs_aem_AV2n0DoAw3zcr5HJBpy0hB-LR0hJHA9rmdV9wKvAO9BzguA761Hl-4IfYMIo23jRcIFIo6LSXycLQYS2BEUXWWY7
URL:https://easternshorevacations.com/event/old-school-rb-crab-cruise-in-crisfield/
CATEGORIES:annapolis,Cambridge,centreville,Chester,Dorchester County,Easton,grasonville,millington,Oxford,Queen Anne's County,queenstown,St Michaels,stevensville,Talbot County,Tilghman,Worchester
ATTACH;FMTTYPE=image/png:https://easternshorevacations.com/wp-content/uploads/l.png
END:VEVENT
BEGIN:VEVENT
DTSTART;TZID=America/New_York:20240507T190000
DTEND;TZID=America/New_York:20240507T230000
DTSTAMP:20260419T184452
CREATED:20240409T184147Z
LAST-MODIFIED:20240409T184214Z
UID:18837-1715108400-1715122800@easternshorevacations.com
SUMMARY:Cinco De Mayo at The Jetty Dock Bar in
DESCRIPTION:Celebrate Cinco de Mayo with us at The Jetty Dock Bar! \nWe’ll be serving up all your favorite rock and dance hits from the 90’s and 2000’s! \n  \nEvent by JJ Billings Band \n  \nVenue: The Jetty Dock Bar
URL:https://easternshorevacations.com/event/cinco-de-mayo-at-the-jetty-dock-bar-in/
CATEGORIES:grasonville
ATTACH;FMTTYPE=image/png:https://easternshorevacations.com/wp-content/uploads/Untitled.png
END:VEVENT
BEGIN:VEVENT
DTSTART;TZID=America/New_York:20240504T150000
DTEND;TZID=America/New_York:20240504T220000
DTSTAMP:20260419T184452
CREATED:20240409T173257Z
LAST-MODIFIED:20240409T173257Z
UID:18804-1714834800-1714860000@easternshorevacations.com
SUMMARY:Bull Roast at Grasonville's VFW
DESCRIPTION:Food\, Corn-hole\, and much more start at 3 the fabulous Kick Back Band will start playing around 6 \nTickets are available for Purchase at the VFW 410-827-8194 \n  \nVenue: Grasonville Memorial Vfw \n  \nEvent: Event by Dana Keller and Kent Island Happenings
URL:https://easternshorevacations.com/event/bull-roast-at-grasonvilles-vfw/
CATEGORIES:grasonville
ATTACH;FMTTYPE=image/png:https://easternshorevacations.com/wp-content/uploads/Screen-Shot-2024-04-09-at-1.29.55-PM.png
END:VEVENT
BEGIN:VEVENT
DTSTART;TZID=America/New_York:20240412T100000
DTEND;TZID=America/New_York:20240426T170000
DTSTAMP:20260419T184452
CREATED:20240409T161736Z
LAST-MODIFIED:20240409T161736Z
UID:18766-1712916000-1714150800@easternshorevacations.com
SUMMARY:Kent Narrows Boat Expo
DESCRIPTION:3 Weekends to browse\, tour and shop new and used boats. \n  \nThe docks are connected from Safe Harbor Narrows South to Fisherman’s Village with access to docks at Crab Deck and the Hyatt Place Kent Island. \n  \nNo cost to enter and no cost to park. Crab Deck is open during the event with live music as well. \n  \nEvent by Kent Narrows Boat Expo \n  \nVenue: Fisherman’s Crab Deck\, 3032 Kent Narrows Way S\, Grasonville\, MD 21638\, United States \n 
URL:https://easternshorevacations.com/event/kent-narrows-boat-expo/
CATEGORIES:Easton,grasonville,queenstown,St Michaels,Talbot County
ATTACH;FMTTYPE=image/png:https://easternshorevacations.com/wp-content/uploads/Screen-Shot-2024-04-09-at-12.15.31-PM.png
END:VEVENT
BEGIN:VEVENT
DTSTART;TZID=America/New_York:20240412T083000
DTEND;TZID=America/New_York:20240412T083000
DTSTAMP:20260419T184452
CREATED:20240409T155643Z
LAST-MODIFIED:20240409T155643Z
UID:18750-1712910600-1712910600@easternshorevacations.com
SUMMARY:The Reagan Years Rock at The Jetty Dock Bar
DESCRIPTION:8:30pm – 12:30a \nno ticket\, just pay the cover \n  \n\n\n\n\n\nEvent by The Reagan Years – The East Coast’s Original 80s Tribute Band\n\n\n\n\n\n\n\n\n\n\n\n\nVenue: Jetty Dock Bar
URL:https://easternshorevacations.com/event/the-reagan-years-rock-at-the-jetty-dock-bar/
CATEGORIES:grasonville,Talbot County
ATTACH;FMTTYPE=image/png:https://easternshorevacations.com/wp-content/uploads/Screen-Shot-2024-04-09-at-11.54.02-AM.png
END:VEVENT
BEGIN:VEVENT
DTSTART;TZID=America/New_York:20240406T120000
DTEND;TZID=America/New_York:20240406T160000
DTSTAMP:20260419T184452
CREATED:20240314T183627Z
LAST-MODIFIED:20240314T183627Z
UID:18667-1712404800-1712419200@easternshorevacations.com
SUMMARY:Kent Narrows Brew Fest In Grasonville
DESCRIPTION:Attention beer enthusiasts! HOPS into Spring  at the Kent Narrows Brew Fest!\n\nThis is a 21+ event.\n\nGeneral Admission tickets are $50.\n\nDesignated Driver tickets are $20.\n\nTickets:\nhttps://kentnarrowsbrewfest.ticketleap.com/?fbclid=IwAR3mydSgN8kVIOX2dMtbJWqNVnjip3NLK5Y4faFWxIwv8osGMKHqM_f9qec\n\nCome support local craftsmanship and perhaps discover a new favorite!\nCraft beers are created with passion and creativity\, resulting in a wide array of flavors and styles to explore.\n\nTicket holders will receive a complimentary mug and enjoy an afternoon sampling crafts from our finest local breweries. Each brews using unique flavors\, ingredients\, and techniques.\n\nThe Crab Deck is not yet open for the regular season\, so the restaurant will not be open for dining. However\, food and other beverages will be available on-site for purchase. Fisherman’s Inn will be broiling up our famous\, mouthwatering crab cakes alongside some of our favorite local Food Trucks.\n\nVenue: \nFisherman’s Crab Deck\n3032 Kent Narrows Way S\, Grasonville\, MD 21638\, United States\n\n\n\nOrganizer:\nEvent by Fisherman’s Village and Fisherman’s Crab Deck
URL:https://easternshorevacations.com/event/kent-narrows-brew-fest-in-grasonville/
CATEGORIES:grasonville,Queen Anne's County
ATTACH;FMTTYPE=image/png:https://easternshorevacations.com/wp-content/uploads/Screen-Shot-2024-03-14-at-2.35.06-PM.png
END:VEVENT
BEGIN:VEVENT
DTSTART;TZID=UTC:20230913T180000
DTEND;TZID=UTC:20231013T200000
DTSTAMP:20260419T184452
CREATED:20230810T180310Z
LAST-MODIFIED:20230810T180310Z
UID:17936-1694628000-1697227200@easternshorevacations.com
SUMMARY:Feasting Over Fire Series with Chesapeake Chefs
DESCRIPTION:Chestertown’s Brampton Inn and Chesapeake Chef Service are teaming up to present a series of alfresco dinner party’s highlighting the Eastern Shore’s farmers\, watermen\, cheesemakers\, and many more. \nReserve Your Seat at the Table: Feasting Over Fire Dinner Series with Chesapeake Chef Service at Brampton Inn \nExperience a quintessential Eastern Shore tradition and join us at Brampton Inn for an open-fire cauldron dinner that is a love letter to what’s in season. Chef Kurt Peter and his talented team from Chesapeake Chef Service is firing up the flame to create an imaginative\, robust menu to celebrate the diverse seasonal abundance of local farmers\, watermen\, cheesemakers\, vintners\, and brewers to highlight the subtle changes of flavor throughout the season. \nSet on the scenic alfresco Renaissance Garden terrace\, each Feasting Over Fire menu will change and includes: \n• Begin your visit with seasonal appetizers and craft cocktails garnished with herbs straight from the Brampton’s lush garden. \n• Gather around a communal table to savor a decadent multi-course dinner by Chef Peter showcasing the finest local ingredients from neighboring farmers and watermen\, paired with remarkable wines or spirits chosen by Chef Peter. \n• Throughout the evening we will be entertained by the musical stylings of concert pianist\, Michael Casey\, who hails from Rock Hall. \n• $120.00 per person includes gratuity. No fees. \n• Available September 13th and October 12th\, 6pm – 8pm. Dinner themes and menus will be forthcoming. \n• Advance ticket purchase required. No walk-ups accepted. Ticket sales end 2 days prior to the event. \nExtend your experience by making reservations to stay at Brampton Inn. Book online at https://bramptoninn.com/ or call 410-778-1860. Guests of the Inn will enjoy a bottle of Champagne and can retire to one of the many cozy seating areas\, fire pit or the comfort of their cottage or suite and continue in their enjoyment of the enchanting evening. A decadent breakfast is included each morning of your stay.
URL:https://easternshorevacations.com/event/feasting-over-fire-series-with-chesapeake-chefs/
CATEGORIES:annapolis,Cambridge,centreville,Chester,Dorchester County,Easton,grasonville,millington,Oxford,Queen Anne's County,queenstown,St Michaels,stevensville,Talbot County,Tilghman,Worchester
ATTACH;FMTTYPE=image/png:https://easternshorevacations.com/wp-content/uploads/0k5n20lk.png
END:VEVENT
BEGIN:VEVENT
DTSTART;TZID=UTC:20230804T180000
DTEND;TZID=UTC:20230805T160000
DTSTAMP:20260419T184452
CREATED:20230511T232133Z
LAST-MODIFIED:20230511T232133Z
UID:16819-1691172000-1691251200@easternshorevacations.com
SUMMARY:The 9th Annual Sudlersville Peach Festival 23'
DESCRIPTION:Friday\, August 4 6PM until Fireworks\n\nSaturday\, August 5 10AM – 4PM\n\nSudlersville Peach Festival is co-hosted by the Sudlersville Volunteer Fire Company. With the best local bands providing live music\, community non-profit groups serving great homemade food from pit beef to peach cobbler\, local vendors offering their best hand-made crafts\, and lots of great family activities\, this event is a true community gala that promises to be a great time for the whole family.\n\nThere is no admission fee or tickets to attend this event. Free onsite parking available directly behind the farm market.
URL:https://easternshorevacations.com/event/the-9th-annual-sudlersville-peach-festival-23/
CATEGORIES:centreville,Chester,grasonville,millington,Queen Anne's County,queenstown,stevensville
ATTACH;FMTTYPE=image/png:https://easternshorevacations.com/wp-content/uploads/peac-2.png
END:VEVENT
BEGIN:VEVENT
DTSTART;TZID=UTC:20230603T153000
DTEND;TZID=UTC:20231125T183000
DTSTAMP:20260419T184452
CREATED:20230511T225400Z
LAST-MODIFIED:20230511T225400Z
UID:16816-1685806200-1700937000@easternshorevacations.com
SUMMARY:Kent Island Farmers’ Market
DESCRIPTION:With over 30 local vendors at KENT ISLAND FARMERS’ MARKET at Cult Classic Brewery Year-round every Thursday. Hours 3:30- 6pm through Spring\, Summer and Fall. January through March 3:30- 5:30. Experience local selection of seasonal fruits and vegetables. Hand crafted jewelry\, crafts\, home decor and more! Homemade baked goods\, beauty products\, local breweries and restaurants all at your fingertips. \n 
URL:https://easternshorevacations.com/event/kent-island-farmers-market-may-25th/
CATEGORIES:centreville,Chester,grasonville,millington,Queen Anne's County,queenstown,stevensville
ATTACH;FMTTYPE=image/png:https://easternshorevacations.com/wp-content/uploads/2023-Farmers-Market-FB.png
END:VEVENT
BEGIN:VEVENT
DTSTART;TZID=UTC:20230524T183000
DTEND;TZID=UTC:20230524T220000
DTSTAMP:20260419T184452
CREATED:20230511T235503Z
LAST-MODIFIED:20230511T235503Z
UID:16836-1684953000-1684965600@easternshorevacations.com
SUMMARY:Karaoke Night – The Jetty Restaurant and Dock Bar (May 24th)
DESCRIPTION:Come out to the Jetty Restaurant and Dock bar for amazing food and the best drinks in the area! Enjoy the beautiful view and if you are feeling the vibes come rock the dock with Karaoke night. \nEvery Wednesday from 6:30 – 9:30 head to the Jetty restaurant and Dock Bar for Karaoke night.
URL:https://easternshorevacations.com/event/karaoke-night-the-jetty-restaurant-and-dock-bar-may-25th/
CATEGORIES:centreville,Chester,grasonville,millington,Queen Anne's County,queenstown,stevensville
ATTACH;FMTTYPE=image/jpeg:https://easternshorevacations.com/wp-content/uploads/jetty-dock-bar-karaoke.jpg
END:VEVENT
BEGIN:VEVENT
DTSTART;TZID=UTC:20230518T153000
DTEND;TZID=UTC:20230518T183000
DTSTAMP:20260419T184452
CREATED:20230511T223953Z
LAST-MODIFIED:20230511T223953Z
UID:16805-1684423800-1684434600@easternshorevacations.com
SUMMARY:Kent Island Farmers’ Market (May 18th)
DESCRIPTION:With over 30 local vendors at KENT ISLAND FARMERS’ MARKET at Cult Classic Brewery Year-round every Thursday. Hours 3:30- 6pm through Spring\, Summer and Fall. January through March 3:30- 5:30. Experience local selection of seasonal fruits and vegetables. Hand crafted jewelry\, crafts\, home decor and more! Homemade baked goods\, beauty products\, local breweries and restaurants all at your fingertips. \n  \n  \n \n  \n 
URL:https://easternshorevacations.com/event/kent-island-farmers-market-18th/
CATEGORIES:centreville,Chester,grasonville,millington,Queen Anne's County,queenstown,stevensville
ATTACH;FMTTYPE=image/png:https://easternshorevacations.com/wp-content/uploads/2023-Farmers-Market-FB.png
END:VEVENT
BEGIN:VEVENT
DTSTART;TZID=UTC:20230517T183000
DTEND;TZID=UTC:20230517T220000
DTSTAMP:20260419T184452
CREATED:20230511T235055Z
LAST-MODIFIED:20230511T235055Z
UID:16829-1684348200-1684360800@easternshorevacations.com
SUMMARY:Karaoke Night – The Jetty Restaurant and Dock Bar (May 17th)
DESCRIPTION:Come out to the Jetty Restaurant and Dock bar for amazing food and the best drinks in the area! Enjoy the beautiful view and if you are feeling the vibes come rock the dock with Karaoke night. \nEvery Wednesday from 6:30 – 9:30 head to the Jetty restaurant and Dock Bar for Karaoke night.
URL:https://easternshorevacations.com/event/karaoke-night-the-jetty-restaurant-and-dock-bar-may-17th/
CATEGORIES:centreville,Chester,grasonville,Queen Anne's County,queenstown,stevensville
ATTACH;FMTTYPE=image/jpeg:https://easternshorevacations.com/wp-content/uploads/jetty-dock-bar-karaoke.jpg
END:VEVENT
END:VCALENDAR