BEGIN:VCALENDAR
VERSION:2.0
PRODID:-//Eastern Shore Vacation Rentals - ECPv6.15.17.1//NONSGML v1.0//EN
CALSCALE:GREGORIAN
METHOD:PUBLISH
X-WR-CALNAME:Eastern Shore Vacation Rentals
X-ORIGINAL-URL:https://easternshorevacations.com
X-WR-CALDESC:Events for Eastern Shore Vacation Rentals
REFRESH-INTERVAL;VALUE=DURATION:PT1H
X-Robots-Tag:noindex
X-PUBLISHED-TTL:PT1H
BEGIN:VTIMEZONE
TZID:America/New_York
BEGIN:DAYLIGHT
TZOFFSETFROM:-0500
TZOFFSETTO:-0400
TZNAME:EDT
DTSTART:20230312T070000
END:DAYLIGHT
BEGIN:STANDARD
TZOFFSETFROM:-0400
TZOFFSETTO:-0500
TZNAME:EST
DTSTART:20231105T060000
END:STANDARD
BEGIN:DAYLIGHT
TZOFFSETFROM:-0500
TZOFFSETTO:-0400
TZNAME:EDT
DTSTART:20240310T070000
END:DAYLIGHT
BEGIN:STANDARD
TZOFFSETFROM:-0400
TZOFFSETTO:-0500
TZNAME:EST
DTSTART:20241103T060000
END:STANDARD
BEGIN:DAYLIGHT
TZOFFSETFROM:-0500
TZOFFSETTO:-0400
TZNAME:EDT
DTSTART:20250309T070000
END:DAYLIGHT
BEGIN:STANDARD
TZOFFSETFROM:-0400
TZOFFSETTO:-0500
TZNAME:EST
DTSTART:20251102T060000
END:STANDARD
END:VTIMEZONE
BEGIN:VEVENT
DTSTART;TZID=America/New_York:20240411T160000
DTEND;TZID=America/New_York:20240531T180000
DTSTAMP:20260420T102306
CREATED:20240409T153919Z
LAST-MODIFIED:20240409T153919Z
UID:18741-1712851200-1717178400@easternshorevacations.com
SUMMARY:Sip | Savor | Shop
DESCRIPTION:Immerse yourself in the enchanting flavors and cultural richness of Greece at our monthly Greek food experience!\n\nDiscover an enticing assortment of cheeses\, ranging from creamy feta and Manouri\, to aged Graviera and Kefalotyri\, complemented by an exquisite selection of Mediterranean olives\, traditional Greek spreads.\nSip and savor the complexity of Greek wines\, each bottle telling a story of ancient vineyards and contemporary winemaking mastery. Treat your taste buds to a carefully curated charcuterie spread featuring traditional Greek cured meats and artisanal delicacies.\n\nJoin us for an unforgettable culinary voyage through the soul of Greece.\n\n\n\n\n\n\n\n\nVenue: 29523 Canvasback Dr\, Easton\, MD\, United States\, Maryland 21601\n\n\nEvent by Our Greek Market
URL:https://easternshorevacations.com/event/sip-savor-shop/
LOCATION:MD
CATEGORIES:Easton,Talbot County
ATTACH;FMTTYPE=image/png:https://easternshorevacations.com/wp-content/uploads/Screen-Shot-2024-04-09-at-11.38.45-AM.png
END:VEVENT
BEGIN:VEVENT
DTSTART;TZID=America/New_York:20240518T103000
DTEND;TZID=America/New_York:20240519T170000
DTSTAMP:20260420T102306
CREATED:20240409T180724Z
LAST-MODIFIED:20240409T180724Z
UID:18816-1716028200-1716138000@easternshorevacations.com
SUMMARY:2024 Cambridge Classic Powerboat Regatta
DESCRIPTION:Racing since 1911\, the oldest active powerboat race in the country happens right here in Dorchester County\, Maryland. This year’s race will be held on May 18-19\, 2024 on the Choptank River. About 70 boats are expected to be on hand to create an exciting two days of racing. Admission is FREE with a $5 a day charge for parking. Kid’sZone\, Food\, and drinks will be available.\nBrought to by the Hydroplane Racing League (HRL)\, the Cambridge Power Boat Racing Association (CPBRA)\, and the Dorchester Chamber of Commerce. Learn more by visiting our website: https://cpbra.com/\nVenue: Great Marsh Park\, Cambridge\, MD\, United States\, Maryland 21613 \nEvent by Cambridge Power Boat Racing Association and Dorchester Chamber of Commerce
URL:https://easternshorevacations.com/event/2024-cambridge-classic-powerboat-regatta/
LOCATION:MD
CATEGORIES:Cambridge,Dorchester County
ATTACH;FMTTYPE=image/png:https://easternshorevacations.com/wp-content/uploads/Screen-Shot-2024-04-09-at-2.06.01-PM.png
END:VEVENT
BEGIN:VEVENT
DTSTART;TZID=America/New_York:20240518T160000
DTEND;TZID=America/New_York:20240629T180000
DTSTAMP:20260420T102306
CREATED:20240514T155156Z
LAST-MODIFIED:20240514T155156Z
UID:18864-1716048000-1719684000@easternshorevacations.com
SUMMARY:Coastal Crab Art in Cambridge
DESCRIPTION:Event by Prodigal Creations Of Princess Anne \n  \nVenue: 1000 goodwill ave Cambridge Md \n  \nTickets: \n https://l.facebook.com/l.php?u=https%3A%2F%2Fsquare.link%2Fu%2FfErOwYqZ%3Ffbclid%3DIwZXh0bgNhZW0CMTAAAR0KbCjOiy2Aa42_hIhL3dOfi4Ph4WHnAT8hWN2BpgDUHAyVbeinGzFyLxA_aem_AdUE1ZDJadUPgWXmDf4nZ8-3qPkAa3jAx5yj79L_4jq5VB9meuy0eCDjqzdxWb_Jv888iL_eklZln32zm3Qi4Wqq&h=AT0rSgshAHtpyMe4RIfBDkY0VNO8Cmu7sUSTXQdUSY-XFPtnEOLWDsopCCjSiCy7I3CPcWaSELMhkj0OzUySVKM0XZX2Zx9oGQu_ZesJC6F7SkF2IjjNra_AHD8OjuQ15gALFEC8OfsTNzf78FSvkQiWMWE
URL:https://easternshorevacations.com/event/coastal-crab-art-in-cambridge/
LOCATION:MD
CATEGORIES:Cambridge,Dorchester County
ATTACH;FMTTYPE=image/png:https://easternshorevacations.com/wp-content/uploads/B11452B6-07E5-4882-865E-D936F307F4D4.png
END:VEVENT
END:VCALENDAR